BEGIN:VCALENDAR
PRODID:-//Events Calendar//iCal4j 1.0//EN
CALSCALE:GREGORIAN
BEGIN:VEVENT
DTSTAMP:20260421T014631Z
DTSTART:20260509T130000
DTEND:20260509T170000
SUMMARY:Leeslijn op de binnenplaats
TZID:Europe/Brussels
UID:20260421T014631Z-uidGen@fe80:0:0:0:94e4:98ff:feb4:c8ec%eth0
DESCRIPTION:Deze middag kun je de Leeslijn\, de rijdende Bibliotheek van Meierijstad\, vinden op de binnenplaats van het museum.  \nDe Leeslijn zorgt voor een aantrekkelijke programmering.\n
LOCATION:Museum Jan Heestershuis
END:VEVENT
END:VCALENDAR
