BEGIN:VCALENDAR
PRODID:-//Events Calendar//iCal4j 1.0//EN
CALSCALE:GREGORIAN
BEGIN:VEVENT
DTSTAMP:20260421T045332Z
DTSTART:20260523T133000
DTEND:20260523T150000
SUMMARY:Rondleiding
TZID:Europe/Brussels
UID:20260421T045332Z-uidGen@fe80:0:0:0:b83f:f7ff:fe5f:1b7d%eth0
DESCRIPTION:Onze gids staat klaar om u mee te neen door het Verhaal van Jan. \nDeelname is gratis maar wel graag aanmelden via museum@meierijstad.nl
LOCATION:Museum Jan Heestershuis
END:VEVENT
END:VCALENDAR
